BEGIN:VCALENDAR
VERSION:2.0
PRODID:-//Paz y Flora - ECPv6.0.6.2//NONSGML v1.0//EN
CALSCALE:GREGORIAN
METHOD:PUBLISH
X-WR-CALNAME:Paz y Flora
X-ORIGINAL-URL:https://pazyflorasas.com
X-WR-CALDESC:Eventos para Paz y Flora
REFRESH-INTERVAL;VALUE=DURATION:PT1H
X-Robots-Tag:noindex
X-PUBLISHED-TTL:PT1H
BEGIN:VTIMEZONE
TZID:America/New_York
BEGIN:DAYLIGHT
TZOFFSETFROM:-0500
TZOFFSETTO:-0400
TZNAME:EDT
DTSTART:20210314T070000
END:DAYLIGHT
BEGIN:STANDARD
TZOFFSETFROM:-0400
TZOFFSETTO:-0500
TZNAME:EST
DTSTART:20211107T060000
END:STANDARD
TZID:UTC
BEGIN:STANDARD
TZOFFSETFROM:+0000
TZOFFSETTO:+0000
TZNAME:UTC
DTSTART:20170101T000000
END:STANDARD
END:VTIMEZONE
BEGIN:VEVENT
DTSTART;VALUE=DATE:20211216
DTEND;VALUE=DATE:20211217
DTSTAMP:20260423T064012
CREATED:20160726T050000Z
LAST-MODIFIED:20210727T200419Z
UID:10805-1639612800-1639699199@pazyflorasas.com
SUMMARY:Gran bazar
DESCRIPTION:Cras dapibus ullamcorper dictum. Vivamus nec erat placerat felis scelerisque porttitor in ac turpis. In nec imperdiet turpis. Suspendisse quis orci ut orci pulvinar eleifend. Nulla eu mattis ipsum. Integer eget sagittis nulla. Praesent consectetur lacus et maximus eleifend. Integer non lacus dui. Mauris tortor diam\, laoreet quis commodo vitae\, sodales vel augue. Sed rutrum\, libero non pretium tristique\, arcu mi sollicitudin ex\, quis venenatis orci tellus vel dolor. Donec gravida\, dolor ut auctor facilisis\, enim dolor pellentesque lectus\, nec vehicula nibh risus ac leo. Mauris volutpat aliquam tellus nec rhoncus. Aliquam et nibh pulvinar\, sodales nibh et\, pretium urna. Vivamus quam augue\, maximus in consequat imperdiet\, iaculis non nibh. Aliquam erat volutpat. Curabitur venenatis massa sed lacus tristique\, non auctor nisl sodales. Sed ultricies lacus ut libero faucibus fringilla. Ut nisi tellus\, posuere vel mattis nec\, convallis a metus. Nullam elementum molestie felis nec lobortis. Cras at justo eu elit semper tempor sed quis orci. In risus magna\, malesuada vel elementum ut\, finibus et nunc. \n 
URL:https://pazyflorasas.com/evento/gran-bazar/
LOCATION:Bogotá D.C.
CATEGORIES:Vida
ATTACH;FMTTYPE=image/jpeg:https://pazyflorasas.com/wp-content/uploads/2020/10/plantar.jpg
END:VEVENT
BEGIN:VEVENT
DTSTART;VALUE=DATE:20211001
DTEND;VALUE=DATE:20211002
DTSTAMP:20260423T064012
CREATED:20160713T050000Z
LAST-MODIFIED:20210729T163129Z
UID:10801-1633046400-1633132799@pazyflorasas.com
SUMMARY:Jornada de capacitación
DESCRIPTION:Cras dapibus ullamcorper dictum. Vivamus nec erat placerat felis scelerisque porttitor in ac turpis. In nec imperdiet turpis. Suspendisse quis orci ut orci pulvinar eleifend. Nulla eu mattis ipsum. Integer eget sagittis nulla. Praesent consectetur lacus et maximus eleifend. Integer non lacus dui. Mauris tortor diam\, laoreet quis commodo vitae\, sodales vel augue.| Sed rutrum\, libero non pretium tristique\, arcu mi sollicitudin ex\, quis venenatis orci tellus vel dolor. Donec gravida\, dolor ut auctor facilisis\, enim dolor pellentesque lectus\, nec vehicula nibh risus ac leo. Mauris volutpat aliquam tellus nec rhoncus. Aliquam et nibh pulvinar\, sodales nibh et\, pretium urna. Vivamus quam augue\, maximus in consequat imperdiet\, iaculis non nibh. Aliquam erat volutpat. Curabitur venenatis massa sed lacus tristique\, non auctor nisl sodales. Sed ultricies lacus ut libero faucibus fringilla. Ut nisi tellus\, posuere vel mattis nec\, convallis a metus. Nullam elementum molestie felis nec lobortis. Cras at justo eu elit semper tempor sed quis orci. In risus magna\, malesuada vel elementum ut\, finibus et nunc.
URL:https://pazyflorasas.com/evento/jornada-de-capacitacion/
LOCATION:Bogotá D.C.
CATEGORIES:Emprendimiento
ATTACH;FMTTYPE=image/png:https://pazyflorasas.com/wp-content/uploads/2020/09/caqueta2.png
END:VEVENT
BEGIN:VEVENT
DTSTART;VALUE=DATE:20210930
DTEND;VALUE=DATE:20211001
DTSTAMP:20260423T064012
CREATED:20170822T175820Z
LAST-MODIFIED:20210729T163809Z
UID:13842-1632960000-1633046399@pazyflorasas.com
SUMMARY:Charla sobre creación de productos orgánicos
DESCRIPTION:Cras dapibus ullamcorper dictum. Vivamus nec erat placerat felis scelerisque porttitor in ac turpis. In nec imperdiet turpis. Suspendisse quis orci ut orci pulvinar eleifend. Nulla eu mattis ipsum. Integer eget sagittis nulla. Praesent consectetur lacus et maximus eleifend. Integer non lacus dui. Mauris tortor diam\, laoreet quis commodo vitae\, sodales vel augue.| Sed rutrum\, libero non pretium tristique\, arcu mi sollicitudin ex\, quis venenatis orci tellus vel dolor. Donec gravida\, dolor ut auctor facilisis\, enim dolor pellentesque lectus\, nec vehicula nibh risus ac leo. Mauris volutpat aliquam tellus nec rhoncus. Aliquam et nibh pulvinar\, sodales nibh et\, pretium urna. Vivamus quam augue\, maximus in consequat imperdiet\, iaculis non nibh. Aliquam erat volutpat. Curabitur venenatis massa sed lacus tristique\, non auctor nisl sodales. Sed ultricies lacus ut libero faucibus fringilla. Ut nisi tellus\, posuere vel mattis nec\, convallis a metus. Nullam elementum molestie felis nec lobortis. Cras at justo eu elit semper tempor sed quis orci. In risus magna\, malesuada vel elementum ut\, finibus et nunc.
URL:https://pazyflorasas.com/evento/movement-for-the-reconstruction-of-plants/
LOCATION:Bogotá D.C.
CATEGORIES:Paz
ATTACH;FMTTYPE=image/jpeg:https://pazyflorasas.com/wp-content/uploads/2020/10/dron.jpg
END:VEVENT
BEGIN:VEVENT
DTSTART;VALUE=DATE:20210930
DTEND;VALUE=DATE:20211001
DTSTAMP:20260423T064012
CREATED:20210729T185705Z
LAST-MODIFIED:20210729T191953Z
UID:15846-1632960000-1633046399@pazyflorasas.com
SUMMARY:Concierto por la vida
DESCRIPTION:Cras dapibus ullamcorper dictum. Vivamus nec erat placerat felis scelerisque porttitor in ac turpis. In nec imperdiet turpis. Suspendisse quis orci ut orci pulvinar eleifend. Nulla eu mattis ipsum. Integer eget sagittis nulla. Praesent consectetur lacus et maximus eleifend. Integer non lacus dui. Mauris tortor diam\, laoreet quis commodo vitae\, sodales vel augue. Sed rutrum\, libero non pretium tristique\, arcu mi sollicitudin ex\, quis venenatis orci tellus vel dolor. Donec gravida\, dolor ut auctor facilisis\, enim dolor pellentesque lectus\, nec vehicula nibh risus ac leo. Mauris volutpat aliquam tellus nec rhoncus. Aliquam et nibh pulvinar\, sodales nibh et\, pretium urna. Vivamus quam augue\, maximus in consequat imperdiet\, iaculis non nibh. Aliquam erat volutpat. Curabitur venenatis massa sed lacus tristique\, non auctor nisl sodales. Sed ultricies lacus ut libero faucibus fringilla. Ut nisi tellus\, posuere vel mattis nec\, convallis a metus. Nullam elementum molestie felis nec lobortis. Cras at justo eu elit semper tempor sed quis orci. In risus magna\, malesuada vel elementum ut\, finibus et nunc.
URL:https://pazyflorasas.com/evento/concierto-por-la-vida/
LOCATION:Centro de convenciones\, Cra 5 No. 5-55\, Bogotá D.C.\, Bogotá D.C.\, Colombia
CATEGORIES:Paz
ATTACH;FMTTYPE=image/jpeg:https://pazyflorasas.com/wp-content/uploads/2020/10/pueblo-3.jpg
END:VEVENT
BEGIN:VEVENT
DTSTART;VALUE=DATE:20171001
DTEND;VALUE=DATE:20171002
DTSTAMP:20260423T064012
CREATED:20160705T050000Z
LAST-MODIFIED:20210729T164100Z
UID:10800-1506816000-1506902399@pazyflorasas.com
SUMMARY:Reunión sobre reutilización de recursos
DESCRIPTION:Cras dapibus ullamcorper dictum. Vivamus nec erat placerat felis scelerisque porttitor in ac turpis. In nec imperdiet turpis. Suspendisse quis orci ut orci pulvinar eleifend. Nulla eu mattis ipsum. Integer eget sagittis nulla. Praesent consectetur lacus et maximus eleifend. Integer non lacus dui. Mauris tortor diam\, laoreet quis commodo vitae\, sodales vel augue.| Sed rutrum\, libero non pretium tristique\, arcu mi sollicitudin ex\, quis venenatis orci tellus vel dolor. Donec gravida\, dolor ut auctor facilisis\, enim dolor pellentesque lectus\, nec vehicula nibh risus ac leo. Mauris volutpat aliquam tellus nec rhoncus. Aliquam et nibh pulvinar\, sodales nibh et\, pretium urna. Vivamus quam augue\, maximus in consequat imperdiet\, iaculis non nibh. Aliquam erat volutpat. Curabitur venenatis massa sed lacus tristique\, non auctor nisl sodales. Sed ultricies lacus ut libero faucibus fringilla. Ut nisi tellus\, posuere vel mattis nec\, convallis a metus. Nullam elementum molestie felis nec lobortis. Cras at justo eu elit semper tempor sed quis orci. In risus magna\, malesuada vel elementum ut\, finibus et nunc. \n 
URL:https://pazyflorasas.com/evento/movement-for-clean-air-and-nature/
LOCATION:Bogotá D.C.
CATEGORIES:Vida
ATTACH;FMTTYPE=image/jpeg:https://pazyflorasas.com/wp-content/uploads/2020/09/caqueta-2-pazy-flora.jpg
END:VEVENT
END:VCALENDAR